BEGIN:VCALENDAR
VERSION:2.0
PRODID:-//wp-events-plugin.com//7.2.3.1//EN
TZID:Europe/Vienna
X-WR-TIMEZONE:Europe/Vienna
BEGIN:VEVENT
UID:17@alphalauf.at
DTSTART;TZID=Europe/Vienna;VALUE=DATE:20251018
DTEND;TZID=Europe/Vienna;VALUE=DATE:20251020
DTSTAMP:20251010T093230Z
URL:https://www.alphalauf.at/termine/wellnessurlaub-deluxe-auszeit-fuer-ko
 erper-und-geist/
SUMMARY:Aktivwochenende Alphalauf & Yoga
DESCRIPTION:Entdecke die perfekte Erholung mit unserem einzigartigen Progra
 mm von sanfter Bewegung und aktiver Entspannung! Die Kombination aus Spa-H
 otel\, Alphalauf-Elementen und Yoga hilft dir Stress abzubauen und neue En
 ergie zu tanken.\n\nGenieße die atemberaubende Natur und die Ruhe im sch
 önen Bad Loipersdorf. Spüre\, wie sich Verspannungen lösen und du wiede
 r die Balance findest. Unser Kurs ist ideal für alle Levels\, egal\, wo d
 u gerade stehst.\n\nGönn dir diese transformierende Auszeit\, um Körper 
 und Geist wieder in Einklang zu bringen. Melde dich jetzt an\, und erlebe\
 , wie Alphalauf\, Meditation und Yoga dein Leben bereichern können.\n\nWi
 r haben für die Teilnehmer:innen Zimmer im Thermenhotel Stoiser reservier
 t. Die Bezahlung erfolgt direkt in der Unterkunft:\n\n€ 144\,-- pro Pers
 on und Nacht inklusive Verwöhnpension\n&amp\; alle Stoiser Inklusive-Leis
 tungen\nzuzüglich € 3\,50 Nächtigungsabgabe &amp\; € 1\,30 Infrastru
 kturbeitrag pro\nPerson und Nacht\n\nKursinhalte\n\n 	Gemeinsame Bewegungs
 einheiten in der Natur\n 	Einführung bzw. Vertiefung der Entspannungsmedi
 tation\n 	Yogaeinheiten - Atmung\, Bewegung und Koordination\n 	Spezielle 
 Yogaübungen für Läufer:innen\n 	Erlernen und Vertiefung des Sonnengruß
 es\n 	Erlernen bzw. Vertiefung der Alphamethoden\n 	Atemtechniken für meh
 r Entspannung und einen freien Kopf\n 	Zeit für den exklusiven Wellnessbe
 reichs\n 	Impulse für Mindfulness und mehr Resilienz\n
ATTACH;FMTTYPE=image/jpeg:https://www.alphalauf.at/wp-content/uploads/2023
 /11/wellnessurlaub_deluxe_loipersdorf_auszeit_korrper_und_geist_laufen_fra
 u_wald.webp
CATEGORIES:Aktivurlaub
LOCATION:Thermenhotel Stoiser Loipersdorf 4*\, An der Therme 153\, Bad Loip
 ersdorf\, Steiermark\, 8282\, Österreich
X-APPLE-STRUCTURED-LOCATION;VALUE=URI;X-ADDRESS=An der Therme 153\, Bad Loi
 persdorf\, Steiermark\, 8282\, Österreich;X-APPLE-RADIUS=100;X-TITLE=Ther
 menhotel Stoiser Loipersdorf 4*:geo:0,0
END:VEVENT
BEGIN:VTIMEZONE
TZID:Europe/Vienna
X-LIC-LOCATION:Europe/Vienna
BEGIN:DAYLIGHT
DTSTART:20250330T030000
TZOFFSETFROM:+0100
TZOFFSETTO:+0200
TZNAME:CEST
END:DAYLIGHT
END:VTIMEZONE
END:VCALENDAR