BEGIN:VCALENDAR
VERSION:2.0
PRODID:-//wp-events-plugin.com//7.2.3.1//EN
TZID:Europe/Vienna
X-WR-TIMEZONE:Europe/Vienna
BEGIN:VEVENT
UID:96@alphalauf.at
DTSTART;TZID=Europe/Vienna:20260426T100000
DTEND;TZID=Europe/Vienna:20260426T123000
DTSTAMP:20260203T104059Z
URL:https://www.alphalauf.at/termine/alphalauf-basics-2-2/
SUMMARY:Alphalauf Basics 2
DESCRIPTION:In diesem Fortsetzungsseminar wird vermehrt auf Atmung und Lauf
 stil eingegangen.\n\nMittels Laufstilanalyse und speziellen Atemübungen v
 ertiefen wir den Alphalauf.\n\nVoraussetzung für dieses Seminar ist ein b
 ereits absolviertes Alphalauf Seminar Basics 1\nSissy Schneider\nAlphalauf
  Coach | Gesunde Stressbewältigung | Mikronährstoffcoach\n0676/3849355\n
 sissy.schneider@aon.at\nhttps://www.sissyschneider.at/
ATTACH;FMTTYPE=image/jpeg:https://www.alphalauf.at/wp-content/uploads/2021
 /04/Sissy-Schneider_2-scaled.jpg
CATEGORIES:Basiskurs
LOCATION:Schlosspark Laxenburg\, 2361\, Laxenburg\, Österreich
X-APPLE-STRUCTURED-LOCATION;VALUE=URI;X-ADDRESS=2361\, Laxenburg\, Österre
 ich;X-APPLE-RADIUS=100;X-TITLE=Schlosspark Laxenburg:geo:0,0
END:VEVENT
BEGIN:VTIMEZONE
TZID:Europe/Vienna
X-LIC-LOCATION:Europe/Vienna
BEGIN:DAYLIGHT
DTSTART:20260329T030000
TZOFFSETFROM:+0100
TZOFFSETTO:+0200
TZNAME:CEST
END:DAYLIGHT
END:VTIMEZONE
END:VCALENDAR